BEGIN:VCALENDAR
VERSION:2.0
PRODID:-//eventon.com NONSGML v1.0//EN
CALSCALE:GREGORIAN
METHOD:PUBLISH
BEGIN:VEVENT
UID:69ea44d5d43c1
DTSTAMP:20260423T161205Z
DTSTART:20260503T180000Z
DTEND:20260503T230000Z
LOCATION:
SUMMARY:Intuitive Tarot Readings & Psychic Medium Sessions w/ Katrina Louise
DESCRIPTION:Saturday\,  May 3 1 &#8211; 6 pmCost: $50 for 50 min To registe
 r\,  please call us at 573-777-6771 to schedule your appointment. Walk-ins 
 may be available. It is highly recommended to reserve your spot.\nhttps://h
 eartbodyandsoul.org/events/intuitive-tarot-readings-psychic-medium-sessions
 -w-katrina-louise-4/
URL:https://heartbodyandsoul.org/events/intuitive-tarot-readings-psychic-medium-sessions-w-katrina-louise-4/
END:VEVENT
END:VCALENDAR