BEGIN:VCALENDAR
VERSION:2.0
PRODID:-//eventon.com NONSGML v1.0//EN
CALSCALE:GREGORIAN
METHOD:PUBLISH
BEGIN:VEVENT
UID:69ea447dc208e
DTSTAMP:20260423T161037Z
DTSTART:20260502T173000Z
DTEND:20260502T223000Z
LOCATION:
SUMMARY:Intuitive Tarot Readings & Psychic Medium Sessions w/ Katrina Louise
DESCRIPTION:Saturday\,  May 2 12:30 &#8211; 5:30 pmCost: $50 for 50 min To 
 register\,  please call us at 573-777-6771 to schedule your appointment. Wa
 lk-ins may be available. It is highly recommended to reserve your spot.\nht
 tps://heartbodyandsoul.org/events/intuitive-tarot-readings-psychic-medium-s
 essions-w-katrina-louise-3/
URL:https://heartbodyandsoul.org/events/intuitive-tarot-readings-psychic-medium-sessions-w-katrina-louise-3/
END:VEVENT
END:VCALENDAR