BEGIN:VCALENDAR
VERSION:2.0
PRODID:-//eventon.com NONSGML v1.0//EN
CALSCALE:GREGORIAN
METHOD:PUBLISH
BEGIN:VEVENT
UID:69ea4d4aa8e5e
DTSTAMP:20260423T164810Z
DTSTART:20260614T190000Z
DTEND:20260614T220000Z
LOCATION:
SUMMARY:Aura Photography with Amy | Alma Aura
DESCRIPTION:Sunday\,  June 14 2-5 pm\,  Session Time approximately 10 minut
 es Cost: $45 Experience aura photography at Heart\,  Body &amp; Soul with&
 nbsp;Amy from Alma Aura. This unique photography process uses biofeedback s
 ensors and a specialized software system to create a colorful portrait repr
 esenting your energy in that moment. During your session\,  the[..]\nhttps:
 //heartbodyandsoul.org/events/aura-photography-with-amy-alma-aura-2/
URL:https://heartbodyandsoul.org/events/aura-photography-with-amy-alma-aura-2/
END:VEVENT
END:VCALENDAR