BEGIN:VCALENDAR
VERSION:2.0
PRODID:-//eventon.com NONSGML v1.0//EN
CALSCALE:GREGORIAN
METHOD:PUBLISH
BEGIN:VEVENT
UID:69ea451c7a306
DTSTAMP:20260423T161316Z
DTSTART:20260426T180000Z
DTEND:20260426T230000Z
LOCATION:
SUMMARY:Intuitive Tarot Readings & Psychic Medium Sessions w/ Katrina Louise
DESCRIPTION:Sunday\,  April 26\,  1 pm &#8211; 6:00 pmCost: $50 for 50 min 
 To register\,  please call us at 573-777-6771 to schedule your appointment.
  Walk-ins may be available. It is highly recommended to reserve your spot.\
 nhttps://heartbodyandsoul.org/events/intuitive-tarot-readings-psychic-mediu
 m-sessions-w-katrina-louise-2/
URL:https://heartbodyandsoul.org/events/intuitive-tarot-readings-psychic-medium-sessions-w-katrina-louise-2/
END:VEVENT
END:VCALENDAR