BEGIN:VCALENDAR
VERSION:2.0
PRODID:-//eventon.com NONSGML v1.0//EN
CALSCALE:GREGORIAN
METHOD:PUBLISH
BEGIN:VEVENT
UID:69ea44c5efc4d
DTSTAMP:20260423T161149Z
DTSTART:20260509T183000Z
DTEND:20260509T213000Z
LOCATION:
SUMMARY:Walking a Spiritual Path with Practical Feet w/ Clay Schiefelbein
DESCRIPTION:How do we live in the &#8220;in-between&#8221;? Join Clay Schie
 felbein for a special workshop on&nbsp;May 9th&nbsp;dedicated to finding th
 e&nbsp;intuitive&nbsp;intersection of the physical world and the worlds of 
 spirit. This isn&#8217;t just about theory—it’s about finding purpose\,
   meaning\,  and practical ways to bring spiritual principles into your eve
 ryday life. Date:&nbsp;May 9thTime:&nbsp;1:30[..]\nhttps://heartbodyandsoul
 .org/events/walking-a-spiritual-path-with-practical-feet-w-clay-schiefelbei
 n/
URL:https://heartbodyandsoul.org/events/walking-a-spiritual-path-with-practical-feet-w-clay-schiefelbein/
END:VEVENT
END:VCALENDAR