BEGIN:VCALENDAR
VERSION:2.0
PRODID:-//eventon.com NONSGML v1.0//EN
CALSCALE:GREGORIAN
METHOD:PUBLISH
BEGIN:VEVENT
UID:69ea46962b6df
DTSTAMP:20260423T161934Z
DTSTART:20260503T190000Z
DTEND:20260503T210000Z
LOCATION:
SUMMARY:Astrology Class w/ Kacy Howell
DESCRIPTION:Join Kacy Sunday\,  May 3 from 2 &#8211; 4 PM. Cost is $50. Sat
 urn isn’t here to limit you — he’s here to refine you&nbsp; Join us f
 or an upcoming astrology class where we’ll dive into the wisdom of&nbsp;S
 aturn&nbsp;and how his transits act as your personal guide for growth\,  di
 scipline\, [..]\nhttps://heartbodyandsoul.org/events/astrology-class-w-kacy
 -howell-copy/
URL:https://heartbodyandsoul.org/events/astrology-class-w-kacy-howell-copy/
END:VEVENT
END:VCALENDAR