BEGIN:VCALENDAR
VERSION:2.0
PRODID:-//eventon.com NONSGML v1.0//EN
CALSCALE:GREGORIAN
METHOD:PUBLISH
BEGIN:VEVENT
UID:69ea749f239dc
DTSTAMP:20260423T193559Z
DTSTART:20260411T160000Z
DTEND:20260411T170000Z
LOCATION:
SUMMARY:Coffee & Conversation - A Weekly Community Chat
DESCRIPTION:Join us for Coffee &amp; Conversation\,  a free and informal we
 ekly gathering where we explore a different topic each week in a relaxed\, 
  welcoming space. Whether you&#8217;re sipping your favorite coffee\,  tea\
 ,  or smoothie\,  you&#8217;re invited to bring your drink of choice and co
 nnect with neighbors and new friends over[..]\nhttps://heartbodyandsoul.org
 /events/coffee-conversation-a-weekly-community-chat-8/var/ri-1.l-L1
URL:https://heartbodyandsoul.org/events/coffee-conversation-a-weekly-community-chat-8/var/ri-1.l-L1
END:VEVENT
END:VCALENDAR