BEGIN:VCALENDAR
VERSION:2.0
PRODID:-//eventon.com NONSGML v1.0//EN
CALSCALE:GREGORIAN
METHOD:PUBLISH
BEGIN:VEVENT
UID:69ea466f794cf
DTSTAMP:20260423T161855Z
DTSTART:20260522T230000Z
DTEND:20260523T003000Z
LOCATION:
SUMMARY:Sacred Tantrums: Spring Embodiment Series W/Tricia Dietrich
DESCRIPTION:4-Week Live Series May 1st &#8211; May 22nd | Fridays | 6:00–
 7:30 PM $210 Spring stirs what has been contained. Anger. Desire. Voice. Jo
 y. What was never allowed? What was never encouraged? What was never heard?
  What was never fully lived? Sacred Tantrums is an intimate 4-week embodied
  series designed[..]\nhttps://heartbodyandsoul.org/events/sacred-tantrums-s
 pring-embodiment-series-w-tricia-dietrich/var/ri-2.l-L1
URL:https://heartbodyandsoul.org/events/sacred-tantrums-spring-embodiment-series-w-tricia-dietrich/var/ri-2.l-L1
END:VEVENT
END:VCALENDAR