BEGIN:VCALENDAR
VERSION:2.0
PRODID:-//eventon.com NONSGML v1.0//EN
CALSCALE:GREGORIAN
METHOD:PUBLISH
BEGIN:VEVENT
UID:69eba722c72a5
DTSTAMP:20260424T172346Z
DTSTART:20261202T233000Z
DTEND:20261203T003000Z
LOCATION:
SUMMARY:TeaTime w/ Angeline
DESCRIPTION:The First Wednesdays at 5:30 PM Free! Join Angeline\,  our own 
 personal Tea Mistress\,  for some tea tasting and tea talk. Learn about the
  health &amp; magical benefits of the ingredients she’s blended for her s
 pecial creations and taste for yourself how delicious they are. No cost to 
 drop by[..]\nhttps://heartbodyandsoul.org/events/teatime-w-angeline-3/var/r
 i-10.l-L1
URL:https://heartbodyandsoul.org/events/teatime-w-angeline-3/var/ri-10.l-L1
END:VEVENT
END:VCALENDAR